{"text_format":"1","workbook":"xlsx","n_sheets":2,"sheets":["Баланс энергии","Баланс мощности"],"not_rendered":{"charts":0,"images":0,"macros":1,"external_links":12,"defined_names":1543,"comments":0,"pivot_tables":0},"unopened":[],"bounds":{"document_bytes":16777216,"sheet_cells":100000,"rows_first":2000,"rows_last":500,"rows_between":2000,"halvings":0,"cell_chars":16384,"cell_head_chars":4096},"cells_cut":0,"cells_raw":0,"read":"whole","date_system":"1900"}

{"sheet":"Баланс энергии","index":0,"n_rows":27,"n_cols":47,"rows_kept":27,"cut":false,"hidden":false,"merged":[[26,1,26,2],[26,6,26,11],[1,5,1,6],[1,10,1,11],[2,0,2,6],[2,7,2,46],[4,0,5,0],[4,1,5,1],[4,2,4,6],[4,7,4,11],[4,12,4,16],[4,17,4,21],[4,22,4,26],[4,27,4,31],[4,32,4,36],[4,37,4,41],[4,42,4,46]]}
["Заполняется в тыс. кВт.ч. !"]
[]
["Баланс электрической энергии по сетям ВН, СН1, СН2, и НН",null,null,null,null,null,null,{"$f":"'[12]Инф-я'!C14","v":"МУП «Горэлектросеть» г. Муром"}]
[null,null,null,null,null,null,null,null,null,null,null,null,null,null,null,null,null,null,null,null,null,null,null,null,null,null,null,null,null,null,null,"тыс. кВт.ч."]
["№ п.п.","Показатели","Принято регулирующим органом на 2022 год",null,null,null,null,"Факт за 2022 год",null,null,null,null,"Принято регулирующим органом на 2023 год",null,null,null,null,"По данным организации на 2024 год",null,null,null,null,"По данным организации на 1 полугодие 2024 года",null,null,null,null,"По данным организации на 2 полугодие 2024 года",null,null,null,null,"По данным экспертов на 2024 год",null,null,null,null,"По данным экспертов  на 1 полугодие 2024 года",null,null,null,null,"По данным экспертов на 2 полугодие 2024 года"]
[null,null,"Всего","ВН","СН1","СН2","НН","Всего","ВН","СН1","СН2","НН","Всего","ВН","СН1","СН2","НН","Всего","ВН","СН1","СН2","НН","Всего","ВН","СН1","СН2","НН","Всего","ВН","СН1","СН2","НН","Всего","ВН","СН1","СН2","НН","Всего","ВН","СН1","СН2","НН","Всего","ВН","СН1","СН2","НН"]
[1,2,3,4,5,6,7,18,19,20,21,22,33,34,35,36,37,48,49,50,51,52,53,54,55,56,57,58,59,60,61,62,63,64,65,66,67,53,54,55,56,57,58,59,60,61,62]
["1.","Поступление эл.энергии в сеть , ВСЕГО ",{"$f":"C18+C20+C21","v":177085.1999999999},{"$f":"D14+D15+D16+D17","v":173870.20415432917},{"$f":"E9+E14+E15+E16+E17","v":2978.8350596884688},{"$f":"F9+F14+F15+F16+F17","v":177085.19999999992},{"$f":"G9+G14+G15+G16+G17","v":100659.5288841289},{"$f":"H18+H20+H21","v":186963.842},{"$f":"I14+I15+I16+I17","v":183399.45},{"$f":"J9+J14+J15+J16+J17","v":3344.0619999999999},{"$f":"K9+K14+K15+K16+K17","v":186963.842},{"$f":"L9+L14+L15+L16+L17","v":104407.1629},{"$f":"M18+M20+M21","v":182430.55580820312},{"$f":"N14+N15+N16+N17","v":179517.36258989471},{"$f":"O9+O14+O15+O16+O17","v":2599.3750767977458},{"$f":"P9+P14+P15+P16+P17","v":182430.55580820312},{"$f":"Q9+Q14+Q15+Q16+Q17","v":102351.09924133544},{"$f":"R18+R20+R21","v":186963.842},{"$f":"S14+S15+S16+S17","v":183399.45},{"$f":"T9+T14+T15+T16+T17","v":3344.0619999999999},{"$f":"U9+U14+U15+U16+U17","v":186963.842},{"$f":"V9+V14+V15+V16+V17","v":104407.16290000001},{"$f":"W18+W20+W21","v":92851.633999999991},{"$f":"X14+X15+X16+X17","v":90976.091},{"$f":"Y9+Y14+Y15+Y16+Y17","v":1756.6030000000001},{"$f":"Z9+Z14+Z15+Z16+Z17","v":92851.634000000005},{"$f":"AA9+AA14+AA15+AA16+AA17","v":52059.489199999996},{"$f":"AB18+AB20+AB21","v":94112.207999999999},{"$f":"AC14+AC15+AC16+AC17","v":92423.358999999997},{"$f":"AD9+AD14+AD15+AD16+AD17","v":1587.4590000000001},{"$f":"AE9+AE14+AE15+AE16+AE17","v":94112.207999999999},{"$f":"AF9+AF14+AF15+AF16+AF17","v":52347.673699999999},{"$f":"AG18+AG20+AG21","v":0},{"$f":"AH14+AH15+AH16+AH17","v":0},{"$f":"AI9+AI14+AI15+AI16+AI17","v":0},{"$f":"AJ9+AJ14+AJ15+AJ16+AJ17","v":0},{"$f":"AK9+AK14+AK15+AK16+AK17","v":0},{"$f":"AL18+AL20+AL21","v":0},{"$f":"AM14+AM15+AM16+AM17","v":0},{"$f":"AN9+AN14+AN15+AN16+AN17","v":0},{"$f":"AO9+AO14+AO15+AO16+AO17","v":0},{"$f":"AP9+AP14+AP15+AP16+AP17","v":0},{"$f":"AQ18+AQ20+AQ21","v":0},{"$f":"AR14+AR15+AR16+AR17","v":0},{"$f":"AS9+AS14+AS15+AS16+AS17","v":0},{"$f":"AT9+AT14+AT15+AT16+AT17","v":0},{"$f":"AU9+AU14+AU15+AU16+AU17","v":0}]
["1.1.","из смежной сети, всего","х","х",{"$f":"E11","v":0},{"$f":"F11+F12","v":176849.03921401763},{"$f":"G11+G12+G13","v":100659.5288841289},"х","х",{"$f":"J11","v":0},{"$f":"K11+K12","v":186743.51200000002},{"$f":"L11+L12+L13","v":104407.1629},"х","х",{"$f":"O11","v":0},{"$f":"P11+P12","v":182116.73766669244},{"$f":"Q11+Q12+Q13","v":102351.09924133544},"х","х",{"$f":"T11","v":0},{"$f":"U11+U12","v":186743.51200000002},{"$f":"V11+V12+V13","v":104407.16290000001},"х","х",{"$f":"Y11","v":0},{"$f":"Z11+Z12","v":92732.694000000003},{"$f":"AA11+AA12+AA13","v":52059.489199999996},"х","х",{"$f":"AD11","v":0},{"$f":"AE11+AE12","v":94010.817999999999},{"$f":"AF11+AF12+AF13","v":52347.673699999999},"х","х",{"$f":"AI11","v":0},{"$f":"AJ11+AJ12","v":0},{"$f":"AK11+AK12+AK13","v":0},"х","х",{"$f":"AN11","v":0},{"$f":"AO11+AO12","v":0},{"$f":"AP11+AP12+AP13","v":0},"х","х",{"$f":"AS11","v":0},{"$f":"AT11+AT12","v":0},{"$f":"AU11+AU12+AU13","v":0}]
[null,"    в том числе из сети","х","х","х","х","х","х","х","х","х","х","х","х","х","х","х","х","х","х","х","х","х","х","х","х","х","х","х","х","х","х","х","х","х","х","х","х","х","х","х","х","х","х","х","х","х"]
["1.1.1.","ВН","х","х",null,{"$f":"D8-D18-D20-D21-E11-G11","v":173870.20415432917},null,"х","х",null,{"$f":"I8-I18-I20-I21-J11-L11","v":183399.45},null,"х","х",null,{"$f":"N8-N18-N20-N21-O11-Q11","v":179517.36258989471},null,"х","х",null,{"$f":"S8-S18-S20-S21-T11-V11","v":183399.45},null,"х","х",null,{"$f":"X8-X18-X20-X21-Y11-AA11","v":90976.091},null,"х","х",null,{"$f":"AC8-AC18-AC20-AC21-AD11-AF11","v":92423.358999999997},null,"х","х",null,{"$f":"AH8-AH18-AH20-AH21-AI11-AK11","v":0},null,"х","х",null,{"$f":"AM8-AM18-AM20-AM21-AN11-AP11","v":0},null,"х","х",null,{"$f":"AR8-AR18-AR20-AR21-AS11-AU11","v":0}]
["1.1.2.","СН1","х","х","х",{"$f":"E8-E18-E20-E21-G12","v":2978.8350596884688},null,"х","х","х",{"$f":"J8-J18-J20-J21-L12","v":3344.0619999999999},null,"х","х","х",{"$f":"O8-O18-O20-O21-Q12","v":2599.3750767977458},null,"х","х","х",{"$f":"T8-T18-T20-T21-V12","v":3344.0619999999999},null,"х","х","х",{"$f":"Y8-Y18-Y20-Y21-AA12","v":1756.6030000000001},null,"х","х","х",{"$f":"AD8-AD18-AD20-AD21-AF12","v":1587.4590000000001},null,"х","х","х",{"$f":"AI8-AI18-AI20-AI21-AK12","v":0},null,"х","х","х",{"$f":"AN8-AN18-AN20-AN21-AP12","v":0},null,"х","х","х",{"$f":"AS8-AS18-AS20-AS21-AU12","v":0}]
["1.1.3.","СН2","х","х","х","х",{"$f":"F8-F18-F20-F21","v":100659.5288841289},"х","х","х","х",{"$f":"K8-K18-K20-K21","v":104407.1629},"х","х","х","х",{"$f":"P8-P18-P20-P21","v":102351.09924133544},"х","х","х","х",{"$f":"U8-U18-U20-U21","v":104407.16290000001},"х","х","х","х",{"$f":"Z8-Z18-Z20-Z21","v":52059.489199999996},"х","х","х","х",{"$f":"AE8-AE18-AE20-AE21","v":52347.673699999999},"х","х","х","х",{"$f":"AJ8-AJ18-AJ20-AJ21","v":0},"х","х","х","х",{"$f":"AO8-AO18-AO20-AO21","v":0},"х","х","х","х",{"$f":"AT8-AT18-AT20-AT21","v":0}]
["1.2.","от электростанций",{"$f":"SUM(D14:G14)","v":0},null,null,null,null,{"$f":"SUM(I14:L14)","v":0},null,null,null,null,{"$f":"SUM(N14:Q14)","v":0},null,null,null,null,{"$f":"SUM(S14:V14)","v":0},null,null,null,null,{"$f":"SUM(X14:AA14)","v":0},null,null,null,null,{"$f":"SUM(AC14:AF14)","v":0},null,null,null,null,{"$f":"SUM(AH14:AK14)","v":0},null,null,null,null,{"$f":"SUM(AM14:AP14)","v":0},null,null,null,null,{"$f":"SUM(AR14:AU14)","v":0}]
["1.3.","от ПАО \"ФСК-Россети\"",{"$f":"SUM(D15:G15)","v":0},null,null,null,null,{"$f":"SUM(I15:L15)","v":0},null,null,null,null,{"$f":"SUM(N15:Q15)","v":0},null,null,null,null,{"$f":"SUM(S15:V15)","v":0},null,null,null,null,{"$f":"SUM(X15:AA15)","v":0},null,null,null,null,{"$f":"SUM(AC15:AF15)","v":0},null,null,null,null,{"$f":"SUM(AH15:AK15)","v":0},null,null,null,null,{"$f":"SUM(AM15:AP15)","v":0},null,null,null,null,{"$f":"SUM(AR15:AU15)","v":0}]
["1.4.","от филиала \"Владимирэнерго\" ПАО «Россети Центр и Приволжье» ",{"$f":"SUM(D16:G16)","v":177002.46331687152},173870.20415432917,2978.8350596884688,153.42410285388397,null,{"$f":"SUM(I16:L16)","v":186963.842},183399.45,3344.0619999999999,220.33,null,{"$f":"SUM(N16:Q16)","v":182116.73766669244},179517.36258989471,2599.3750767977458,0,null,{"$f":"SUM(S16:V16)","v":186963.842},{"$f":"X16+AC16","v":183399.45},{"$f":"Y16+AD16","v":3344.0619999999999},220.32999999999998,null,{"$f":"SUM(X16:AA16)","v":92851.634000000005},90976.091,1756.6030000000001,118.94,null,{"$f":"SUM(AC16:AF16)","v":94112.207999999999},92423.358999999997,1587.4590000000001,101.39,null,{"$f":"SUM(AH16:AK16)","v":0},null,null,null,null,{"$f":"SUM(AM16:AP16)","v":0},null,null,null,null,{"$f":"SUM(AR16:AU16)","v":0}]
["1.5.","от других сетевых организаций",{"$f":"SUM(D17:G17)","v":82.736683128401481},null,null,82.736683128401481,null,{"$f":"SUM(I17:L17)","v":0},null,null,null,null,{"$f":"SUM(N17:Q17)","v":313.81814151068653},0,0,313.81814151068653,null,{"$f":"SUM(S17:V17)","v":0},null,null,null,null,{"$f":"SUM(X17:AA17)","v":0},null,null,null,null,{"$f":"SUM(AC17:AF17)","v":0},null,null,null,null,{"$f":"SUM(AH17:AK17)","v":0},null,null,null,null,{"$f":"SUM(AM17:AP17)","v":0},null,null,null,null,{"$f":"SUM(AR17:AU17)","v":0}]
["2.","Потери электроэнергии в сети ",{"$f":"SUM(D18:G18)","v":12980.3},{"$f":"D8*D19/100","v":0},{"$f":"E8*E19/100","v":0},{"$f":"F8*F19/100","v":6941.7398399999975},{"$f":"G8*G19/100","v":6038.5601600000018},{"$f":"SUM(I18:L18)","v":14200.151999999995},{"$f":"I8*I19/100","v":0},{"$f":"J8*J19/100","v":0},{"$f":"K8*K19/100","v":7505.342099999998},{"$f":"L8*L19/100","v":6694.8098999999957},{"$f":"SUM(N18:Q18)","v":13372.095708203138},{"$f":"N8*N19/100","v":0},{"$f":"O8*O19/100","v":0},{"$f":"P8*P19/100","v":7151.2777876815635},{"$f":"Q8*Q19/100","v":6220.8179205215747},{"$f":"SUM(S18:V18)","v":13704.449618600003},{"$f":"S8*S19/100","v":0},{"$f":"T8*T19/100","v":0},{"$f":"U8*U19/100","v":7009.6397186000049},{"$f":"V8*V19/100","v":6694.8098999999984},{"$f":"SUM(X18:AA18)","v":6555.6879999999983},{"$f":"X8*X19/100","v":0},{"$f":"Y8*Y19/100","v":0},{"$f":"Z8*Z19/100","v":3515.6477999999997},{"$f":"AA8*AA19/100","v":3040.040199999999},{"$f":"SUM(AC18:AF18)","v":7148.761618600005},{"$f":"AC8*AC19/100","v":0},{"$f":"AD8*AD19/100","v":0},{"$f":"AE8*AE19/100","v":3493.9919186000061},{"$f":"AF8*AF19/100","v":3654.7696999999989},{"$f":"SUM(AH18:AK18)","v":0},{"$f":"AH8*AH19/100","v":0},{"$f":"AI8*AI19/100","v":0},{"$f":"AJ8*AJ19/100","v":0},{"$f":"AK8*AK19/100","v":0},{"$f":"SUM(AM18:AP18)","v":0},{"$f":"AM8*AM19/100","v":0},{"$f":"AN8*AN19/100","v":0},{"$f":"AO8*AO19/100","v":0},{"$f":"AP8*AP19/100","v":0},{"$f":"SUM(AR18:AU18)","v":0},{"$f":"AR8*AR19/100","v":0},{"$f":"AS8*AS19/100","v":0},{"$f":"AT8*AT19/100","v":0},{"$f":"AU8*AU19/100","v":0}]
["2.1.","то же в % (п.2./п.1.)",{"$f":"IF(C8=0,0,C18/C8*100)","v":7.3299744981511763},null,null,3.92,5.9989950548557633,{"$f":"IF(H8=0,0,H18/H8*100)","v":7.5951327529950916},null,null,4.0143281287512256,6.4122132179879356,{"$f":"IF(M8=0,0,M18/M8*100)","v":7.3299649003217322},null,null,3.9200000000000004,6.0779199897535046,{"$f":"IF(R8=0,0,R18/R8*100)","v":7.3300000000000018},null,null,3.749195375756134,6.4122132179879374,{"$f":"IF(W8=0,0,W18/W8*100)","v":7.0603905581241566},null,null,3.7863068731779124,5.8395505732315165,{"$f":"IF(AB8=0,0,AB18/AB8*100)","v":7.5959981924980502},null,null,3.7125809635663911,6.9817232394034718,{"$f":"IF(AG8=0,0,AG18/AG8*100)","v":0},null,null,null,null,{"$f":"IF(AL8=0,0,AL18/AL8*100)","v":0},null,null,null,null,{"$f":"IF(AQ8=0,0,AQ18/AQ8*100)","v":0}]
["3.","Расход электроэнергии на производственные и хознужды",{"$f":"SUM(D20:G20)","v":0},null,null,null,null,{"$f":"SUM(I20:L20)","v":0},null,null,null,null,{"$f":"SUM(N20:Q20)","v":0},null,null,null,null,{"$f":"SUM(S20:V20)","v":0},null,null,null,null,{"$f":"SUM(X20:AA20)","v":0},null,null,null,null,{"$f":"SUM(AC20:AF20)","v":0},null,null,null,null,{"$f":"SUM(AH20:AK20)","v":0},null,null,null,null,{"$f":"SUM(AM20:AP20)","v":0},null,null,null,null,{"$f":"SUM(AR20:AU20)","v":0}]
["4.","Полезный отпуск из сети ",{"$f":"SUM(D21:G21)","v":164104.89999999991},{"$f":"D22+D23+D24","v":0},{"$f":"E22+E23+E24","v":0},{"$f":"F22+F23+F24","v":69483.931275871029},{"$f":"G8-G18-G20","v":94620.968724128892},{"$f":"SUM(I21:L21)","v":172763.69},{"$f":"I22+I23+I24","v":0},{"$f":"J22+J23+J24","v":0},{"$f":"K22+K23+K24","v":75051.337},{"$f":"L8-L18-L20","v":97712.353000000003},{"$f":"SUM(N21:Q21)","v":169058.4601},{"$f":"N22+N23+N24","v":0},{"$f":"O22+O23+O24","v":0},{"$f":"P22+P23+P24","v":72928.178779186128},{"$f":"Q8-Q18-Q20","v":96130.281320813869},{"$f":"SUM(S21:V21)","v":173259.39238140002},{"$f":"S22+S23+S24","v":0},{"$f":"T22+T23+T24","v":0},{"$f":"U22+U23+U24","v":75547.039381399998},{"$f":"V8-V18-V20","v":97712.353000000017},{"$f":"SUM(X21:AA21)","v":86295.945999999996},{"$f":"X22+X23+X24","v":0},{"$f":"Y22+Y23+Y24","v":0},{"$f":"Z22+Z23+Z24","v":37276.497000000003},{"$f":"AA8-AA18-AA20","v":49019.449000000001},{"$f":"SUM(AC21:AF21)","v":86963.44638139999},{"$f":"AC22+AC23+AC24","v":0},{"$f":"AD22+AD23+AD24","v":0},{"$f":"AE22+AE23+AE24","v":38270.542381399995},{"$f":"AF8-AF18-AF20","v":48692.904000000002},{"$f":"SUM(AH21:AK21)","v":0},{"$f":"AH22+AH23+AH24","v":0},{"$f":"AI22+AI23+AI24","v":0},{"$f":"AJ22+AJ23+AJ24","v":0},{"$f":"AK8-AK18-AK20","v":0},{"$f":"SUM(AM21:AP21)","v":0},{"$f":"AM22+AM23+AM24","v":0},{"$f":"AN22+AN23+AN24","v":0},{"$f":"AO22+AO23+AO24","v":0},{"$f":"AP8-AP18-AP20","v":0},{"$f":"SUM(AR21:AU21)","v":0},{"$f":"AR22+AR23+AR24","v":0},{"$f":"AS22+AS23+AS24","v":0},{"$f":"AT22+AT23+AT24","v":0},{"$f":"AU8-AU18-AU20","v":0}]
["4.1.","потребителям, присоединенным к сети",{"$f":"SUM(D22:G22)","v":161796.12450171207},null,null,67175.155777583161,94620.968724128907,{"$f":"SUM(I22:L22)","v":172763.69},null,null,75051.337,97712.353000000003,{"$f":"SUM(N22:Q22)","v":166393.74289106767},null,null,70263.461570253814,96130.281320813854,{"$f":"SUM(S22:V22)","v":173259.39238139999},null,null,{"$f":"Z22+AE22","v":75547.039381399998},{"$f":"AA22+AF22","v":97712.353000000003},{"$f":"SUM(X22:AA22)","v":86295.945999999996},null,null,37276.497000000003,49019.449000000001,{"$f":"SUM(AC22:AF22)","v":86963.44638139999},null,null,38270.542381399995,48692.904000000002,{"$f":"SUM(AH22:AK22)","v":0},null,null,null,null,{"$f":"SUM(AM22:AP22)","v":0},null,null,null,null,{"$f":"SUM(AR22:AU22)","v":0}]
["4.2.","переток в сеть филиала \"Владимирэнерго\" ПАО «Россети Центр и Приволжье»",{"$f":"SUM(D23:G23)","v":0},null,null,0,0,{"$f":"SUM(I23:L23)","v":0},null,null,null,null,{"$f":"SUM(N23:Q23)","v":0},null,null,null,null,{"$f":"SUM(S23:V23)","v":0},null,null,null,null,{"$f":"SUM(X23:AA23)","v":0},null,null,null,null,{"$f":"SUM(AC23:AF23)","v":0},null,null,null,null,{"$f":"SUM(AH23:AK23)","v":0},null,null,null,null,{"$f":"SUM(AM23:AP23)","v":0},null,null,null,null,{"$f":"SUM(AR23:AU23)","v":0}]
["4.3.","переток в другие сетевые организации",{"$f":"SUM(D24:G24)","v":2308.7754982878632},null,null,2308.7754982878632,0,{"$f":"SUM(I24:L24)","v":0},null,null,null,null,{"$f":"SUM(N24:Q24)","v":2664.7172089323126},null,null,2664.7172089323126,0,{"$f":"SUM(S24:V24)","v":0},null,null,null,null,{"$f":"SUM(X24:AA24)","v":0},null,null,null,null,{"$f":"SUM(AC24:AF24)","v":0},null,null,null,null,{"$f":"SUM(AH24:AK24)","v":0},null,null,null,null,{"$f":"SUM(AM24:AP24)","v":0},null,null,null,null,{"$f":"SUM(AR24:AU24)","v":0}]
[null,"Проверка",null,{"$f":"D8-D18-D20-D22-D23-D24-E11-F11-G11","v":0},{"$f":"E8-E18-E20-E22-E23-E24-F12-G12","v":0},{"$f":"F8-F18-F20-F22-F23-F24-G13","v":0},{"$f":"G8-G18-G20-G22-G23-G24","v":-1.4551915228366852E-11},null,{"$f":"I8-I18-I20-I22-I23-I24-J11-K11-L11","v":0},{"$f":"J8-J18-J20-J22-J23-J24-K12-L12","v":0},{"$f":"K8-K18-K20-K22-K23-K24-L13","v":0},{"$f":"L8-L18-L20-L22-L23-L24","v":0},null,{"$f":"N8-N18-N20-N22-N23-N24-O11-P11-Q11","v":0},{"$f":"O8-O18-O20-O22-O23-O24-P12-Q12","v":0},{"$f":"P8-P18-P20-P22-P23-P24-Q13","v":0},{"$f":"Q8-Q18-Q20-Q22-Q23-Q24","v":1.4551915228366852E-11},null,{"$f":"S8-S18-S20-S22-S23-S24-T11-U11-V11","v":0},{"$f":"T8-T18-T20-T22-T23-T24-U12-V12","v":0},{"$f":"U8-U18-U20-U22-U23-U24-V13","v":0},{"$f":"V8-V18-V20-V22-V23-V24","v":1.4551915228366852E-11},null,{"$f":"X8-X18-X20-X22-X23-X24-Y11-Z11-AA11","v":0},{"$f":"Y8-Y18-Y20-Y22-Y23-Y24-Z12-AA12","v":0},{"$f":"Z8-Z18-Z20-Z22-Z23-Z24-AA13","v":0},{"$f":"AA8-AA18-AA20-AA22-AA23-AA24","v":0},null,{"$f":"AC8-AC18-AC20-AC22-AC23-AC24-AD11-AE11-AF11","v":0},{"$f":"AD8-AD18-AD20-AD22-AD23-AD24-AE12-AF12","v":0},{"$f":"AE8-AE18-AE20-AE22-AE23-AE24-AF13","v":0},{"$f":"AF8-AF18-AF20-AF22-AF23-AF24","v":0},null,{"$f":"AH8-AH18-AH20-AH22-AH23-AH24-AI11-AJ11-AK11","v":0},{"$f":"AI8-AI18-AI20-AI22-AI23-AI24-AJ12-AK12","v":0},{"$f":"AJ8-AJ18-AJ20-AJ22-AJ23-AJ24-AK13","v":0},{"$f":"AK8-AK18-AK20-AK22-AK23-AK24","v":0},null,{"$f":"AM8-AM18-AM20-AM22-AM23-AM24-AN11-AO11-AP11","v":0},{"$f":"AN8-AN18-AN20-AN22-AN23-AN24-AO12-AP12","v":0},{"$f":"AO8-AO18-AO20-AO22-AO23-AO24-AP13","v":0},{"$f":"AP8-AP18-AP20-AP22-AP23-AP24","v":0},null,{"$f":"AR8-AR18-AR20-AR22-AR23-AR24-AS11-AT11-AU11","v":0},{"$f":"AS8-AS18-AS20-AS22-AS23-AS24-AT12-AU12","v":0},{"$f":"AT8-AT18-AT20-AT22-AT23-AT24-AU13","v":0},{"$f":"AU8-AU18-AU20-AU22-AU23-AU24","v":0}]
[]
[null,"Руководитель организации",null,null,null,null,{"$f":"'[12]Инф-я'!$C$21","v":"А.Ю. Александрук"}]

{"sheet":"Баланс мощности","index":1,"n_rows":28,"n_cols":12,"rows_kept":28,"cut":false,"hidden":false,"merged":[[5,7,5,11],[27,1,27,2],[27,3,27,6],[1,1,1,6],[2,1,2,5],[5,0,6,0],[5,1,6,1],[5,2,5,6]]}
[]
[null,"Электрическая мощность по диапазонам напряжения "]
[null,{"$f":"'[12]Инф-я'!C14","v":"МУП «Горэлектросеть» г. Муром"}]
[]
[null,null,null,null,null,null,"МВт"]
["№ п.п.","Показатели","По данным организации на 2024 год",null,null,null,null,"По данным экспертов на 2024 год"]
[null,null,"Всего","ВН","СН1","СН2","НН","Всего","ВН","СН1","СН2","НН"]
[1,2,3,4,5,6,7,8,9,10,11,12]
["1.","Поступление мощности в сеть , ВСЕГО ",{"$f":"C19+C21+C22","v":29.904397313737249},{"$f":"D15+D16+D17+D18","v":29.449921713737247},{"$f":"E10+E15+E16+E17+E18","v":0.43353920000000001},{"$f":"F10+F15+F16+F17+F18","v":29.904397313737245},{"$f":"G10+G15+G16+G17+G18","v":16.589421243765663},{"$f":"H19+H21+H22","v":0},{"$f":"I15+I16+I17+I18","v":0},{"$f":"J10+J15+J16+J17+J18","v":0},{"$f":"K10+K15+K16+K17+K18","v":0},{"$f":"L10+L15+L16+L17+L18","v":0}]
["1.1.","из смежной сети, всего","х","х",{"$f":"E12","v":0},{"$f":"F12+F13","v":29.883460913737245},{"$f":"G12+G13+G14","v":16.589421243765663},"х","х",{"$f":"J12","v":0},{"$f":"K12+K13","v":0},{"$f":"L12+L13+L14","v":0}]
[null,"    в том числе из сети","х","х","х","х","х","х","х","х","х","х"]
["1.1.1.","ВН","х","х",null,{"$f":"D9-D19-D21-D22-G12-E12","v":29.449921713737247},null,"х","х",null,{"$f":"I9-I19-I21-I22-L12-J12","v":0}]
["1.1.2.","СН1","х","х","х",{"$f":"E9-E19-E21-E22-G13","v":0.43353920000000001},null,"х","х","х",{"$f":"J9-J19-J21-J22-L13","v":0}]
["1.1.3.","СН2","х","х","х","х",{"$f":"F9-F19-F21-F22","v":16.589421243765663},"х","х","х","х",{"$f":"K9-K19-K21-K22","v":0}]
["1.2.","от электростанций",{"$f":"SUM(D15:G15)","v":0},null,null,null,null,{"$f":"SUM(I15:L15)","v":0}]
["1.3.","от ПАО \"ФСК-Россети\"",{"$f":"SUM(D16:G16)","v":0},null,null,null,null,{"$f":"SUM(I16:L16)","v":0}]
["1.4.","от филиала \"Владимирэнерго\" ПАО «Россети Центр и Приволжье»",{"$f":"SUM(D17:G17)","v":29.904397313737245},{"$f":"28.6707244+0.779197313737246","v":29.449921713737247},0.43353920000000001,2.0936400000000001E-2,null,{"$f":"SUM(I17:L17)","v":0}]
["1.5.","от других сетевых организаций",{"$f":"SUM(D18:G18)","v":0},null,null,null,null,{"$f":"SUM(I18:L18)","v":0}]
["2.","Потери мощности в сети ",{"$f":"SUM(D19:G19)","v":2.1871333333333411},{"$f":"D9*D20/100","v":0},{"$f":"E9*E20/100","v":0},{"$f":"F9*F20/100","v":1.1211742812343783},{"$f":"G9*G20/100","v":1.0659590520989628},{"$f":"SUM(I19:L19)","v":0},{"$f":"I9*I20/100","v":0},{"$f":"J9*J20/100","v":0},{"$f":"K9*K20/100","v":0},{"$f":"L9*L20/100","v":0}]
["2.1.","то же в % (п.2./п.1.)",{"$f":"IF(C9=0,0,C19/C9*100)","v":7.3137515877259727},{"$f":"'Баланс энергии'!S19","v":0},{"$f":"'Баланс энергии'!T19","v":0},{"$f":"'Баланс энергии'!U19","v":3.749195375756134},6.4255349022471302,{"$f":"IF(H9=0,0,H19/H9*100)","v":0},{"$f":"'Баланс энергии'!AH19","v":0},{"$f":"'Баланс энергии'!AI19","v":0},{"$f":"'Баланс энергии'!AJ19","v":0}]
["3.","Расход электроэнергии на производственные и хознужды",{"$f":"SUM(D21:G21)","v":0},null,null,null,null,{"$f":"SUM(I21:L21)","v":0}]
["4.","Полезный отпуск из сети ",{"$f":"SUM(D22:G22)","v":27.717263980403906},{"$f":"D23+D24+D25","v":0},{"$f":"E23+E24+E25","v":0},{"$f":"F23+F24+F25","v":12.193801788737204},{"$f":"G9-G19-G21","v":15.523462191666701},{"$f":"SUM(I22:L22)","v":0},{"$f":"I23+I24+I25","v":0},{"$f":"J23+J24+J25","v":0},{"$f":"K23+K24+K25","v":0},{"$f":"L9-L19-L21","v":0}]
["4.1.","потребителям, присоединенным к сети",{"$f":"SUM(D23:G23)","v":27.717263980403906},null,null,{"$f":"11.414621+0.779180788737204","v":12.193801788737204},15.523462191666701,{"$f":"SUM(I23:L23)","v":0}]
["4.2.","переток в сеть филиала \"Владимирэнерго\" ПАО «Россети Центр и Приволжье»",{"$f":"SUM(D24:G24)","v":0},null,null,null,null,{"$f":"SUM(I24:L24)","v":0}]
["4.3.","переток в другие сетевые организации",{"$f":"SUM(D25:G25)","v":0},null,null,null,null,{"$f":"SUM(I25:L25)","v":0}]
[null,"Проверка",null,{"$f":"D9-D19-D21-D23-D24-D25-E12-F12-G12","v":0},{"$f":"E9-E19-E21-E23-E24-E25-F13-G13","v":0},{"$f":"F9-F19-F21-F23-F24-F25-G14","v":0},{"$f":"G9-G19-G21-G23-G24-G25","v":0},null,{"$f":"I9-I19-I21-I23-I24-I25-J12-K12-L12","v":0},{"$f":"J9-J19-J21-J23-J24-J25-K13-L13","v":0},{"$f":"K9-K19-K21-K23-K24-K25-L14","v":0},{"$f":"L9-L19-L21-L23-L24-L25","v":0}]
[]
[null,"Руководитель организации",null,{"$f":"'[12]Инф-я'!$C$21","v":"А.Ю. Александрук"}]